Package: transcriptogramer Version: 1.33.0 Command: /Library/Frameworks/R.framework/Resources/bin/R CMD INSTALL transcriptogramer StartedAt: 2025-11-21 15:39:10 -0500 (Fri, 21 Nov 2025) EndedAt: 2025-11-21 15:39:46 -0500 (Fri, 21 Nov 2025) EllapsedTime: 35.8 seconds RetCode: 0 Status: OK