Package: transcriptogramer Version: 1.33.0 Command: /Library/Frameworks/R.framework/Resources/bin/R CMD build --keep-empty-dirs --no-resave-data transcriptogramer StartedAt: 2025-11-21 19:02:32 -0500 (Fri, 21 Nov 2025) EndedAt: 2025-11-21 19:15:39 -0500 (Fri, 21 Nov 2025) EllapsedTime: 787.2 seconds RetCode: 0 Status: OK PackageFile: transcriptogramer_1.33.0.tar.gz PackageFileSize: 3.63 MiB