Package: transcriptogramer Version: 1.33.0 Command: rm -rf transcriptogramer.buildbin-libdir && mkdir transcriptogramer.buildbin-libdir && /Users/biocbuild/BBS/utils/build-universal.sh transcriptogramer_1.33.0.tar.gz /Library/Frameworks/R.framework/Resources/bin/R transcriptogramer.buildbin-libdir StartedAt: 2025-11-22 02:02:46 -0500 (Sat, 22 Nov 2025) EndedAt: 2025-11-22 02:03:27 -0500 (Sat, 22 Nov 2025) EllapsedTime: 40.5 seconds RetCode: 0 Status: OK PackageFile: transcriptogramer_1.33.0.tgz PackageFileSize: 5.449 MiB