Package: transcriptogramer Version: 1.33.0 Command: /Library/Frameworks/R.framework/Resources/bin/R CMD INSTALL transcriptogramer StartedAt: 2025-11-14 15:20:58 -0500 (Fri, 14 Nov 2025) EndedAt: 2025-11-14 15:21:08 -0500 (Fri, 14 Nov 2025) EllapsedTime: 10.4 seconds RetCode: 0 Status: OK