Package: transcriptR Version: 1.37.0 Command: /home/biocbuild/bbs-3.22-bioc/R/bin/R CMD INSTALL transcriptR StartedAt: 2025-10-08 16:11:29 -0400 (Wed, 08 Oct 2025) EndedAt: 2025-10-08 16:12:28 -0400 (Wed, 08 Oct 2025) EllapsedTime: 59.0 seconds RetCode: 0 Status: OK