Package: trackViewer Version: 1.45.2 Command: /home/biocbuild/bbs-3.22-bioc/R/bin/R CMD INSTALL trackViewer StartedAt: 2025-10-05 15:47:01 -0400 (Sun, 05 Oct 2025) EndedAt: 2025-10-05 15:48:01 -0400 (Sun, 05 Oct 2025) EllapsedTime: 59.7 seconds RetCode: 0 Status: OK