Package: trackViewer Version: 1.45.2 Command: /home/biocbuild/bbs-3.22-bioc/R/bin/R CMD build --keep-empty-dirs --no-resave-data --md5 trackViewer StartedAt: 2025-10-05 20:37:58 -0400 (Sun, 05 Oct 2025) EndedAt: 2025-10-05 20:49:14 -0400 (Sun, 05 Oct 2025) EllapsedTime: 676.5 seconds RetCode: 0 Status: OK PackageFile: trackViewer_1.45.2.tar.gz PackageFileSize: 10.39 MiB