Package: tpSVG Version: 1.5.0 Command: /home/biocbuild/bbs-3.22-bioc/R/bin/R CMD INSTALL tpSVG StartedAt: 2025-10-05 15:21:34 -0400 (Sun, 05 Oct 2025) EndedAt: 2025-10-05 15:21:56 -0400 (Sun, 05 Oct 2025) EllapsedTime: 22.6 seconds RetCode: 0 Status: OK