Package: timecourse Version: 1.81.0 Command: /home/biocbuild/bbs-3.22-bioc/R/bin/R CMD INSTALL timecourse StartedAt: 2025-10-03 15:11:50 -0400 (Fri, 03 Oct 2025) EndedAt: 2025-10-03 15:11:56 -0400 (Fri, 03 Oct 2025) EllapsedTime: 6.1 seconds RetCode: 0 Status: OK