Package: timecourse Version: 1.81.0 Command: /home/biocbuild/bbs-3.22-bioc/R/bin/R CMD build --keep-empty-dirs --no-resave-data --md5 timecourse StartedAt: 2025-10-03 20:30:03 -0400 (Fri, 03 Oct 2025) EndedAt: 2025-10-03 20:30:19 -0400 (Fri, 03 Oct 2025) EllapsedTime: 16.0 seconds RetCode: 0 Status: OK PackageFile: timecourse_1.81.0.tar.gz PackageFileSize: 842.5 KiB