Package: tilingArray Version: 1.89.0 Command: /home/biocbuild/bbs-3.23-bioc/R/bin/R CMD INSTALL tilingArray StartedAt: 2025-11-13 15:56:55 -0500 (Thu, 13 Nov 2025) EndedAt: 2025-11-13 15:57:19 -0500 (Thu, 13 Nov 2025) EllapsedTime: 23.8 seconds RetCode: 0 Status: OK