Package: tilingArray Version: 1.89.0 Command: /home/biocbuild/bbs-3.23-bioc/R/bin/R CMD build --keep-empty-dirs --no-resave-data tilingArray StartedAt: 2025-11-13 20:31:20 -0500 (Thu, 13 Nov 2025) EndedAt: 2025-11-13 20:31:58 -0500 (Thu, 13 Nov 2025) EllapsedTime: 38.0 seconds RetCode: 0 Status: OK PackageFile: tilingArray_1.89.0.tar.gz PackageFileSize: 3.488 MiB