Package: tilingArray Version: 1.87.0 Command: /Library/Frameworks/R.framework/Resources/bin/R CMD INSTALL tilingArray StartedAt: 2025-09-21 15:46:43 -0400 (Sun, 21 Sep 2025) EndedAt: 2025-09-21 15:47:18 -0400 (Sun, 21 Sep 2025) EllapsedTime: 35.1 seconds RetCode: 0 Status: OK