Package: tidytof Version: 1.5.0 Command: /home/biocbuild/bbs-3.23-bioc/R/bin/R CMD INSTALL tidytof StartedAt: 2025-11-21 15:14:07 -0500 (Fri, 21 Nov 2025) EndedAt: 2025-11-21 15:14:37 -0500 (Fri, 21 Nov 2025) EllapsedTime: 29.9 seconds RetCode: 0 Status: OK