Package: tidytof Version: 1.5.0 Command: /Library/Frameworks/R.framework/Resources/bin/R CMD build --keep-empty-dirs --no-resave-data tidytof StartedAt: 2025-11-19 19:01:45 -0500 (Wed, 19 Nov 2025) EndedAt: 2025-11-19 19:06:35 -0500 (Wed, 19 Nov 2025) EllapsedTime: 289.6 seconds RetCode: 0 Status: OK PackageFile: tidytof_1.5.0.tar.gz PackageFileSize: 2.687 MiB