Package: tidytof Version: 1.5.0 Command: rm -rf tidytof.buildbin-libdir && mkdir tidytof.buildbin-libdir && /Users/biocbuild/BBS/utils/build-universal.sh tidytof_1.5.0.tar.gz /Library/Frameworks/R.framework/Resources/bin/R tidytof.buildbin-libdir StartedAt: 2025-11-14 23:55:03 -0500 (Fri, 14 Nov 2025) EndedAt: 2025-11-14 23:55:16 -0500 (Fri, 14 Nov 2025) EllapsedTime: 13.3 seconds RetCode: 0 Status: OK PackageFile: tidytof_1.5.0.tgz PackageFileSize: 3.208 MiB