Package: tidyomics Version: 1.7.0 Command: /home/biocbuild/bbs-3.23-bioc/R/bin/R CMD INSTALL tidyomics StartedAt: 2025-11-09 15:33:30 -0500 (Sun, 09 Nov 2025) EndedAt: 2025-11-09 15:34:04 -0500 (Sun, 09 Nov 2025) EllapsedTime: 33.6 seconds RetCode: 0 Status: OK