Package: tidyomics Version: 1.7.0 Command: /home/biocbuild/bbs-3.23-bioc/R/bin/R CMD build --keep-empty-dirs --no-resave-data tidyomics StartedAt: 2025-11-09 20:26:28 -0500 (Sun, 09 Nov 2025) EndedAt: 2025-11-09 20:27:04 -0500 (Sun, 09 Nov 2025) EllapsedTime: 36.1 seconds RetCode: 0 Status: OK PackageFile: tidyomics_1.7.0.tar.gz PackageFileSize: 56.47 KiB