Package: tidyomics Version: 1.5.0 Command: /Library/Frameworks/R.framework/Resources/bin/R CMD INSTALL tidyomics StartedAt: 2025-10-22 15:31:59 -0400 (Wed, 22 Oct 2025) EndedAt: 2025-10-22 15:32:47 -0400 (Wed, 22 Oct 2025) EllapsedTime: 47.7 seconds RetCode: 0 Status: OK