Package: tidyomics Version: 1.5.0 Command: /Library/Frameworks/R.framework/Resources/bin/R CMD build --keep-empty-dirs --no-resave-data tidyomics StartedAt: 2025-10-22 18:58:04 -0400 (Wed, 22 Oct 2025) EndedAt: 2025-10-22 18:58:48 -0400 (Wed, 22 Oct 2025) EllapsedTime: 43.2 seconds RetCode: 0 Status: OK PackageFile: tidyomics_1.5.0.tar.gz PackageFileSize: 55.93 KiB