Package: tidyomics Version: 1.5.0 Command: rm -rf tidyomics.buildbin-libdir && mkdir tidyomics.buildbin-libdir && /Users/biocbuild/BBS/utils/build-universal.sh tidyomics_1.5.0.tar.gz /Library/Frameworks/R.framework/Resources/bin/R tidyomics.buildbin-libdir StartedAt: 2025-10-25 02:08:32 -0400 (Sat, 25 Oct 2025) EndedAt: 2025-10-25 02:09:24 -0400 (Sat, 25 Oct 2025) EllapsedTime: 52.1 seconds RetCode: 0 Status: OK PackageFile: tidyomics_1.5.0.tgz PackageFileSize: 73.16 KiB