Package: tidybulk Version: 2.1.0 Command: /home/biocbuild/bbs-3.23-bioc/R/bin/R CMD INSTALL tidybulk StartedAt: 2025-11-09 15:24:17 -0500 (Sun, 09 Nov 2025) EndedAt: 2025-11-09 15:24:51 -0500 (Sun, 09 Nov 2025) EllapsedTime: 34.0 seconds RetCode: 0 Status: OK