Package: tidybulk Version: 2.1.0 Command: /home/biocbuild/bbs-3.23-bioc/R/bin/R CMD build --keep-empty-dirs --no-resave-data tidybulk StartedAt: 2025-11-09 20:25:46 -0500 (Sun, 09 Nov 2025) EndedAt: 2025-11-09 20:43:25 -0500 (Sun, 09 Nov 2025) EllapsedTime: 1059.1 seconds RetCode: 0 Status: OK PackageFile: tidybulk_2.1.0.tar.gz PackageFileSize: 4.74 MiB