Package: tidybulk Version: 1.99.4 Command: /Library/Frameworks/R.framework/Resources/bin/R CMD INSTALL tidybulk StartedAt: 2025-10-17 15:26:58 -0400 (Fri, 17 Oct 2025) EndedAt: 2025-10-17 15:27:44 -0400 (Fri, 17 Oct 2025) EllapsedTime: 46.4 seconds RetCode: 0 Status: OK