Package: tidybulk Version: 1.99.4 Command: rm -rf tidybulk.buildbin-libdir && mkdir tidybulk.buildbin-libdir && /Users/biocbuild/BBS/utils/build-universal.sh tidybulk_1.99.4.tar.gz /Library/Frameworks/R.framework/Resources/bin/R tidybulk.buildbin-libdir StartedAt: 2025-10-18 03:26:51 -0400 (Sat, 18 Oct 2025) EndedAt: 2025-10-18 03:27:43 -0400 (Sat, 18 Oct 2025) EllapsedTime: 52.0 seconds RetCode: 0 Status: OK PackageFile: tidybulk_1.99.4.tgz PackageFileSize: 5.369 MiB