Package: tidybulk Version: 1.99.4 Command: /Library/Frameworks/R.framework/Resources/bin/R CMD INSTALL tidybulk StartedAt: 2025-10-05 15:15:32 -0400 (Sun, 05 Oct 2025) EndedAt: 2025-10-05 15:15:45 -0400 (Sun, 05 Oct 2025) EllapsedTime: 12.9 seconds RetCode: 0 Status: OK