Package: tidybulk Version: 1.99.4 Command: /Library/Frameworks/R.framework/Resources/bin/R CMD build --keep-empty-dirs --no-resave-data tidybulk StartedAt: 2025-10-05 17:59:59 -0400 (Sun, 05 Oct 2025) EndedAt: 2025-10-05 18:06:26 -0400 (Sun, 05 Oct 2025) EllapsedTime: 387.6 seconds RetCode: 0 Status: OK PackageFile: tidybulk_1.99.4.tar.gz PackageFileSize: 4.99 MiB