Package: tidySummarizedExperiment Version: 1.19.6 Command: /Library/Frameworks/R.framework/Resources/bin/R CMD INSTALL tidySummarizedExperiment StartedAt: 2025-10-22 15:30:13 -0400 (Wed, 22 Oct 2025) EndedAt: 2025-10-22 15:30:52 -0400 (Wed, 22 Oct 2025) EllapsedTime: 38.4 seconds RetCode: 0 Status: OK