Package: tidySummarizedExperiment Version: 1.19.6 Command: /Library/Frameworks/R.framework/Resources/bin/R CMD build --keep-empty-dirs --no-resave-data tidySummarizedExperiment StartedAt: 2025-10-22 18:58:40 -0400 (Wed, 22 Oct 2025) EndedAt: 2025-10-22 18:59:31 -0400 (Wed, 22 Oct 2025) EllapsedTime: 51.1 seconds RetCode: 0 Status: OK PackageFile: tidySummarizedExperiment_1.19.6.tar.gz PackageFileSize: 364.7 KiB