Package: tidySummarizedExperiment Version: 1.19.7 Command: rm -rf tidySummarizedExperiment.buildbin-libdir && mkdir tidySummarizedExperiment.buildbin-libdir && /Users/biocbuild/BBS/utils/build-universal.sh tidySummarizedExperiment_1.19.7.tar.gz /Library/Frameworks/R.framework/Resources/bin/R tidySummarizedExperiment.buildbin-libdir StartedAt: 2025-10-25 02:08:38 -0400 (Sat, 25 Oct 2025) EndedAt: 2025-10-25 02:09:17 -0400 (Sat, 25 Oct 2025) EllapsedTime: 39.3 seconds RetCode: 0 Status: OK PackageFile: tidySummarizedExperiment_1.19.7.tgz PackageFileSize: 573.6 KiB