Package: tidySummarizedExperiment Version: 1.19.0 Command: /Library/Frameworks/R.framework/Resources/bin/R CMD INSTALL tidySummarizedExperiment StartedAt: 2025-10-05 15:18:32 -0400 (Sun, 05 Oct 2025) EndedAt: 2025-10-05 15:18:43 -0400 (Sun, 05 Oct 2025) EllapsedTime: 11.0 seconds RetCode: 0 Status: OK