Package: tidySummarizedExperiment Version: 1.19.0 Command: /Library/Frameworks/R.framework/Resources/bin/R CMD build --keep-empty-dirs --no-resave-data tidySummarizedExperiment StartedAt: 2025-10-06 17:57:08 -0400 (Mon, 06 Oct 2025) EndedAt: 2025-10-06 17:57:27 -0400 (Mon, 06 Oct 2025) EllapsedTime: 19.2 seconds RetCode: 0 Status: OK PackageFile: tidySummarizedExperiment_1.19.0.tar.gz PackageFileSize: 368.6 KiB