Package: tidySummarizedExperiment Version: 1.19.0 Command: rm -rf tidySummarizedExperiment.buildbin-libdir && mkdir tidySummarizedExperiment.buildbin-libdir && /Users/biocbuild/BBS/utils/build-universal.sh tidySummarizedExperiment_1.19.0.tar.gz /Library/Frameworks/R.framework/Resources/bin/R tidySummarizedExperiment.buildbin-libdir StartedAt: 2025-10-06 23:03:27 -0400 (Mon, 06 Oct 2025) EndedAt: 2025-10-06 23:03:39 -0400 (Mon, 06 Oct 2025) EllapsedTime: 12.3 seconds RetCode: 0 Status: OK PackageFile: tidySummarizedExperiment_1.19.0.tgz PackageFileSize: 686.8 KiB