Package: tidySummarizedExperiment Version: 1.21.0 Maintainer: Stefano Mangiola MaintainerEmail: mangiolastefano at gmail.com git_url: https://git.bioconductor.org/packages/tidySummarizedExperiment git_branch: devel git_last_commit: d35c29a git_last_commit_date: 2025-10-29 11:04:14 -0500 (Wed, 29 Oct 2025)