Package: tidySingleCellExperiment Version: 1.21.0 Command: /home/biocbuild/bbs-3.23-bioc/R/bin/R CMD build --keep-empty-dirs --no-resave-data tidySingleCellExperiment StartedAt: 2025-11-09 20:26:49 -0500 (Sun, 09 Nov 2025) EndedAt: 2025-11-09 20:28:13 -0500 (Sun, 09 Nov 2025) EllapsedTime: 84.1 seconds RetCode: 0 Status: OK PackageFile: tidySingleCellExperiment_1.21.0.tar.gz PackageFileSize: 1.132 MiB