Package: tidySingleCellExperiment Version: 1.19.1 Command: /Library/Frameworks/R.framework/Resources/bin/R CMD INSTALL tidySingleCellExperiment StartedAt: 2025-10-22 15:21:49 -0400 (Wed, 22 Oct 2025) EndedAt: 2025-10-22 15:22:26 -0400 (Wed, 22 Oct 2025) EllapsedTime: 37.7 seconds RetCode: 0 Status: OK