Package: tidySingleCellExperiment Version: 1.19.1 Command: /Library/Frameworks/R.framework/Resources/bin/R CMD build --keep-empty-dirs --no-resave-data tidySingleCellExperiment StartedAt: 2025-10-22 18:58:15 -0400 (Wed, 22 Oct 2025) EndedAt: 2025-10-22 18:59:57 -0400 (Wed, 22 Oct 2025) EllapsedTime: 102.5 seconds RetCode: 0 Status: OK PackageFile: tidySingleCellExperiment_1.19.1.tar.gz PackageFileSize: 1.797 MiB