Package: tidySingleCellExperiment Version: 1.19.0 Command: /Library/Frameworks/R.framework/Resources/bin/R CMD INSTALL tidySingleCellExperiment StartedAt: 2025-10-07 15:12:29 -0400 (Tue, 07 Oct 2025) EndedAt: 2025-10-07 15:12:40 -0400 (Tue, 07 Oct 2025) EllapsedTime: 11.1 seconds RetCode: 0 Status: OK