Package: tidySingleCellExperiment Version: 1.19.0 Command: /Library/Frameworks/R.framework/Resources/bin/R CMD build --keep-empty-dirs --no-resave-data tidySingleCellExperiment StartedAt: 2025-10-06 17:56:59 -0400 (Mon, 06 Oct 2025) EndedAt: 2025-10-06 17:57:39 -0400 (Mon, 06 Oct 2025) EllapsedTime: 39.5 seconds RetCode: 0 Status: OK PackageFile: tidySingleCellExperiment_1.19.0.tar.gz PackageFileSize: 1.803 MiB