Package: tidyFlowCore Version: 1.3.0 Command: /home/biocbuild/bbs-3.22-bioc/R/bin/R CMD check --install=check:tidyFlowCore.install-out.txt --library=/home/biocbuild/bbs-3.22-bioc/R/site-library --timings tidyFlowCore_1.3.0.tar.gz StartedAt: 2025-10-04 05:04:58 -0400 (Sat, 04 Oct 2025) EndedAt: 2025-10-04 05:07:50 -0400 (Sat, 04 Oct 2025) EllapsedTime: 172.2 seconds RetCode: 0 Status: OK CheckDir: tidyFlowCore.Rcheck Warnings: 0