Package: tidyFlowCore Version: 1.5.0 Command: /home/biocbuild/bbs-3.23-bioc/R/bin/R CMD build --keep-empty-dirs --no-resave-data tidyFlowCore StartedAt: 2025-11-07 20:26:45 -0500 (Fri, 07 Nov 2025) EndedAt: 2025-11-07 20:27:38 -0500 (Fri, 07 Nov 2025) EllapsedTime: 53.1 seconds RetCode: 0 Status: OK PackageFile: tidyFlowCore_1.5.0.tar.gz PackageFileSize: 783.8 KiB