Package: tidyCoverage Version: 1.7.0 Command: /home/biocbuild/bbs-3.23-bioc/R/bin/R CMD INSTALL tidyCoverage StartedAt: 2025-11-07 15:27:35 -0500 (Fri, 07 Nov 2025) EndedAt: 2025-11-07 15:28:10 -0500 (Fri, 07 Nov 2025) EllapsedTime: 34.9 seconds RetCode: 0 Status: OK