Package: tidyCoverage Version: 1.7.0 Command: /home/biocbuild/bbs-3.23-bioc/R/bin/R CMD build --keep-empty-dirs --no-resave-data tidyCoverage StartedAt: 2025-11-07 20:26:39 -0500 (Fri, 07 Nov 2025) EndedAt: 2025-11-07 20:29:37 -0500 (Fri, 07 Nov 2025) EllapsedTime: 178.2 seconds RetCode: 0 Status: OK PackageFile: tidyCoverage_1.7.0.tar.gz PackageFileSize: 3.735 MiB