Package: ternarynet Version: 1.53.0 Command: /home/biocbuild/bbs-3.22-bioc/R/bin/R CMD INSTALL ternarynet StartedAt: 2025-10-05 15:05:02 -0400 (Sun, 05 Oct 2025) EndedAt: 2025-10-05 15:05:15 -0400 (Sun, 05 Oct 2025) EllapsedTime: 12.5 seconds RetCode: 0 Status: OK