Package: ternarynet Version: 1.53.0 Command: /home/biocbuild/bbs-3.22-bioc/R/bin/R CMD build --keep-empty-dirs --no-resave-data --md5 ternarynet StartedAt: 2025-10-05 20:33:05 -0400 (Sun, 05 Oct 2025) EndedAt: 2025-10-05 20:33:17 -0400 (Sun, 05 Oct 2025) EllapsedTime: 12.0 seconds RetCode: 0 Status: OK PackageFile: ternarynet_1.53.0.tar.gz PackageFileSize: 271.3 KiB