Package: tRNAscanImport Version: 1.29.1 Command: /home/biocbuild/bbs-3.22-bioc/R/bin/R CMD INSTALL tRNAscanImport StartedAt: 2025-10-16 16:38:17 -0400 (Thu, 16 Oct 2025) EndedAt: 2025-10-16 16:38:55 -0400 (Thu, 16 Oct 2025) EllapsedTime: 37.8 seconds RetCode: 0 Status: OK