Package: systemPipeTools Version: 1.19.0 Command: /home/biocbuild/bbs-3.23-bioc/R/bin/R CMD INSTALL systemPipeTools StartedAt: 2025-11-07 15:22:01 -0500 (Fri, 07 Nov 2025) EndedAt: 2025-11-07 15:22:26 -0500 (Fri, 07 Nov 2025) EllapsedTime: 25.1 seconds RetCode: 0 Status: OK