Package: systemPipeTools Version: 1.19.0 Command: /home/biocbuild/bbs-3.23-bioc/R/bin/R CMD build --keep-empty-dirs --no-resave-data systemPipeTools StartedAt: 2025-11-07 20:22:43 -0500 (Fri, 07 Nov 2025) EndedAt: 2025-11-07 20:23:44 -0500 (Fri, 07 Nov 2025) EllapsedTime: 61.0 seconds RetCode: 0 Status: OK PackageFile: systemPipeTools_1.19.0.tar.gz PackageFileSize: 989.9 KiB