Package: systemPipeTools Version: 1.17.0 Command: /Library/Frameworks/R.framework/Resources/bin/R CMD INSTALL systemPipeTools StartedAt: 2025-09-30 15:20:35 -0400 (Tue, 30 Sep 2025) EndedAt: 2025-09-30 15:21:11 -0400 (Tue, 30 Sep 2025) EllapsedTime: 36.3 seconds RetCode: 0 Status: OK