Package: systemPipeTools Version: 1.17.0 Command: /Library/Frameworks/R.framework/Resources/bin/R CMD build --keep-empty-dirs --no-resave-data systemPipeTools StartedAt: 2025-09-30 19:04:43 -0400 (Tue, 30 Sep 2025) EndedAt: 2025-09-30 19:06:00 -0400 (Tue, 30 Sep 2025) EllapsedTime: 76.5 seconds RetCode: 0 Status: OK PackageFile: systemPipeTools_1.17.0.tar.gz PackageFileSize: 1003 KiB